BEGIN:VCALENDAR
VERSION:2.0
PRODID:-//UACA
CALSCALE:GREGORIAN
METHOD:PUBLISH
X-WR-CALNAME:UACA
X-ORIGINAL-URL:http://www.uaca.ac.cr/agenda/charla-mal-praxis-medica
X-WR-CALDESC:Charla “Mal praxis médica, errores frecuentes en el ejercicio de la Medicina”
BEGIN:VEVENT
DTSTART:
DTEND:
SUMMARY:Charla “Mal praxis médica, errores frecuentes en el ejercicio de la Medicina”
DESCRIPTION:
LOCATION:
END:VEVENT
END:VCALENDAR
